BEGIN:VCALENDAR
VERSION:2.0
PRODID:-//pretix//events.juvare.com//
BEGIN:VTIMEZONE
TZID:US/Central
BEGIN:STANDARD
DTSTART:20001029T020000
RRULE:FREQ=YEARLY;BYDAY=-1SU;BYMONTH=10;UNTIL=20061029T070000Z
TZNAME:CST
TZOFFSETFROM:-0500
TZOFFSETTO:-0600
END:STANDARD
BEGIN:STANDARD
DTSTART:20071104T020000
RRULE:FREQ=YEARLY;BYDAY=1SU;BYMONTH=11
TZNAME:CST
TZOFFSETFROM:-0500
TZOFFSETTO:-0600
END:STANDARD
BEGIN:DAYLIGHT
DTSTART:20000402T020000
RRULE:FREQ=YEARLY;BYDAY=1SU;BYMONTH=4;UNTIL=20060402T080000Z
TZNAME:CDT
TZOFFSETFROM:-0600
TZOFFSETTO:-0500
END:DAYLIGHT
BEGIN:DAYLIGHT
DTSTART:20070311T020000
RRULE:FREQ=YEARLY;BYDAY=2SU;BYMONTH=3
TZNAME:CDT
TZOFFSETFROM:-0600
TZOFFSETTO:-0500
END:DAYLIGHT
END:VTIMEZONE
BEGIN:VEVENT
UID:pretix-IL-IDPH-sdcrj-681584@events.juvare.com
DTSTART;TZID=US/Central:20210510T080000
DTEND;TZID=US/Central:20210510T081500
DESCRIPTION:Tickets: https://events.juvare.com/IL-IDPH/sdcrj/681584/\nOrgan
 izer: Illinois Department of Public Health
DTSTAMP:20260419T144919Z
LOCATION:504 S Promenade (old Alco) \nHavana\, IL 62644\nPlease bring QR co
 de\, photo id\, insurance card and vaccine card
SUMMARY:5/10-Mason-Janssen (J&J) - single dose at Alco
END:VEVENT
END:VCALENDAR
