BEGIN:VCALENDAR
VERSION:2.0
PRODID:-//pretix//events.juvare.com//
BEGIN:VTIMEZONE
TZID:US/Central
BEGIN:STANDARD
DTSTART:20001029T020000
RRULE:FREQ=YEARLY;BYDAY=-1SU;BYMONTH=10;UNTIL=20061029T070000Z
TZNAME:CST
TZOFFSETFROM:-0500
TZOFFSETTO:-0600
END:STANDARD
BEGIN:STANDARD
DTSTART:20071104T020000
RRULE:FREQ=YEARLY;BYDAY=1SU;BYMONTH=11
TZNAME:CST
TZOFFSETFROM:-0500
TZOFFSETTO:-0600
END:STANDARD
BEGIN:DAYLIGHT
DTSTART:20000402T020000
RRULE:FREQ=YEARLY;BYDAY=1SU;BYMONTH=4;UNTIL=20060402T080000Z
TZNAME:CDT
TZOFFSETFROM:-0600
TZOFFSETTO:-0500
END:DAYLIGHT
BEGIN:DAYLIGHT
DTSTART:20070311T020000
RRULE:FREQ=YEARLY;BYDAY=2SU;BYMONTH=3
TZNAME:CDT
TZOFFSETFROM:-0600
TZOFFSETTO:-0500
END:DAYLIGHT
END:VTIMEZONE
BEGIN:VEVENT
UID:pretix-IL-IDPH-f04d00d2-72d8-489f-b688-3de37bd79cb8-583284@events.juvar
 e.com
DTSTART;TZID=US/Central:20210514T111000
DTEND;TZID=US/Central:20210514T111500
DESCRIPTION:Tickets: https://events.juvare.com/IL-IDPH/f04d00d2-72d8-489f-b
 688-3de37bd79cb8/583284/\nOrganizer: Illinois Department of Public Health
DTSTAMP:20260421T095203Z
LOCATION:7000 Fleming Ln\nPeoria\, IL  61614
SUMMARY:5/14 - Peoria County - Greater Peoria Family YMCA (1st Dose)
END:VEVENT
END:VCALENDAR
