BEGIN:VCALENDAR
VERSION:2.0
PRODID:-//pretix//events.juvare.com//
BEGIN:VTIMEZONE
TZID:US/Central
BEGIN:STANDARD
DTSTART:20001029T020000
RRULE:FREQ=YEARLY;BYDAY=-1SU;BYMONTH=10;UNTIL=20061029T070000Z
TZNAME:CST
TZOFFSETFROM:-0500
TZOFFSETTO:-0600
END:STANDARD
BEGIN:STANDARD
DTSTART:20071104T020000
RRULE:FREQ=YEARLY;BYDAY=1SU;BYMONTH=11
TZNAME:CST
TZOFFSETFROM:-0500
TZOFFSETTO:-0600
END:STANDARD
BEGIN:DAYLIGHT
DTSTART:20000402T020000
RRULE:FREQ=YEARLY;BYDAY=1SU;BYMONTH=4;UNTIL=20060402T080000Z
TZNAME:CDT
TZOFFSETFROM:-0600
TZOFFSETTO:-0500
END:DAYLIGHT
BEGIN:DAYLIGHT
DTSTART:20070311T020000
RRULE:FREQ=YEARLY;BYDAY=2SU;BYMONTH=3
TZNAME:CDT
TZOFFSETFROM:-0600
TZOFFSETTO:-0500
END:DAYLIGHT
END:VTIMEZONE
BEGIN:VEVENT
UID:pretix-IL-IDPH-cf1d61ee-eb13-4294-8722-b9c30ad916cb-408086@events.juvar
 e.com
DTSTART;TZID=US/Central:20210427T112400
DTEND;TZID=US/Central:20210427T113600
DESCRIPTION:Tickets: https://events.juvare.com/IL-IDPH/cf1d61ee-eb13-4294-8
 722-b9c30ad916cb/408086/\nOrganizer: Illinois Department of Public Health
DTSTAMP:20260421T042240Z
LOCATION:4500 College Avenue Alton\, Illinois 62002-5099
SUMMARY:Mar 23 to Apr 30 - Illinois  of Human Services   - IDHS - Alton Me
 ntal Health Center Vaccination POD  - 1st and 2nd Dose
END:VEVENT
END:VCALENDAR
