BEGIN:VCALENDAR
VERSION:2.0
PRODID:-//pretix//events.juvare.com//
BEGIN:VTIMEZONE
TZID:US/Central
BEGIN:STANDARD
DTSTART:20001029T020000
RRULE:FREQ=YEARLY;BYDAY=-1SU;BYMONTH=10;UNTIL=20061029T070000Z
TZNAME:CST
TZOFFSETFROM:-0500
TZOFFSETTO:-0600
END:STANDARD
BEGIN:STANDARD
DTSTART:20071104T020000
RRULE:FREQ=YEARLY;BYDAY=1SU;BYMONTH=11
TZNAME:CST
TZOFFSETFROM:-0500
TZOFFSETTO:-0600
END:STANDARD
BEGIN:DAYLIGHT
DTSTART:20000402T020000
RRULE:FREQ=YEARLY;BYDAY=1SU;BYMONTH=4;UNTIL=20060402T080000Z
TZNAME:CDT
TZOFFSETFROM:-0600
TZOFFSETTO:-0500
END:DAYLIGHT
BEGIN:DAYLIGHT
DTSTART:20070311T020000
RRULE:FREQ=YEARLY;BYDAY=2SU;BYMONTH=3
TZNAME:CDT
TZOFFSETFROM:-0600
TZOFFSETTO:-0500
END:DAYLIGHT
END:VTIMEZONE
BEGIN:VEVENT
UID:pretix-IL-IDPH-ca4e6ed2-52d1-42a1-ab87-04314e1da384-1296328@events.juva
 re.com
DTSTART;TZID=US/Central:20220414T084000
DTEND;TZID=US/Central:20220414T090000
DESCRIPTION:Tickets: https://events.juvare.com/IL-IDPH/ca4e6ed2-52d1-42a1-a
 b87-04314e1da384/1296328/\nOrganizer: Illinois Department of Public Health
DTSTAMP:20260421T031318Z
LOCATION:Putnam County Health Department\n200 E High St\nHennepin IL 61327
SUMMARY:April 14- Putnam County- Moderna 1st\, 2nd\, 3rd\, Booster Dose
END:VEVENT
END:VCALENDAR
