BEGIN:VCALENDAR
VERSION:2.0
PRODID:-//pretix//events.juvare.com//
BEGIN:VTIMEZONE
TZID:US/Central
BEGIN:STANDARD
DTSTART:20001029T020000
RRULE:FREQ=YEARLY;BYDAY=-1SU;BYMONTH=10;UNTIL=20061029T070000Z
TZNAME:CST
TZOFFSETFROM:-0500
TZOFFSETTO:-0600
END:STANDARD
BEGIN:STANDARD
DTSTART:20071104T020000
RRULE:FREQ=YEARLY;BYDAY=1SU;BYMONTH=11
TZNAME:CST
TZOFFSETFROM:-0500
TZOFFSETTO:-0600
END:STANDARD
BEGIN:DAYLIGHT
DTSTART:20000402T020000
RRULE:FREQ=YEARLY;BYDAY=1SU;BYMONTH=4;UNTIL=20060402T080000Z
TZNAME:CDT
TZOFFSETFROM:-0600
TZOFFSETTO:-0500
END:DAYLIGHT
BEGIN:DAYLIGHT
DTSTART:20070311T020000
RRULE:FREQ=YEARLY;BYDAY=2SU;BYMONTH=3
TZNAME:CDT
TZOFFSETFROM:-0600
TZOFFSETTO:-0500
END:DAYLIGHT
END:VTIMEZONE
BEGIN:VEVENT
UID:pretix-IL-IDPH-bee5c70e-5adc-4d08-92bf-2b62057f9156-1342430@events.juva
 re.com
DTSTART;TZID=US/Central:20220628T093000
DTEND;TZID=US/Central:20220628T094000
DESCRIPTION:Tickets: https://events.juvare.com/IL-IDPH/bee5c70e-5adc-4d08-9
 2bf-2b62057f9156/1342430/\nOrganizer: Illinois Department of Public Health
DTSTAMP:20260421T045054Z
LOCATION:5127 Oakton St
SUMMARY:MODERNA COVID-19 Clinics - Village of Skokie Health and Human Servi
 ces - 5127 Oakton St
END:VEVENT
END:VCALENDAR
