BEGIN:VCALENDAR
VERSION:2.0
PRODID:-//pretix//events.juvare.com//
BEGIN:VTIMEZONE
TZID:US/Central
BEGIN:STANDARD
DTSTART:20001029T020000
RRULE:FREQ=YEARLY;BYDAY=-1SU;BYMONTH=10;UNTIL=20061029T070000Z
TZNAME:CST
TZOFFSETFROM:-0500
TZOFFSETTO:-0600
END:STANDARD
BEGIN:STANDARD
DTSTART:20071104T020000
RRULE:FREQ=YEARLY;BYDAY=1SU;BYMONTH=11
TZNAME:CST
TZOFFSETFROM:-0500
TZOFFSETTO:-0600
END:STANDARD
BEGIN:DAYLIGHT
DTSTART:20000402T020000
RRULE:FREQ=YEARLY;BYDAY=1SU;BYMONTH=4;UNTIL=20060402T080000Z
TZNAME:CDT
TZOFFSETFROM:-0600
TZOFFSETTO:-0500
END:DAYLIGHT
BEGIN:DAYLIGHT
DTSTART:20070311T020000
RRULE:FREQ=YEARLY;BYDAY=2SU;BYMONTH=3
TZNAME:CDT
TZOFFSETFROM:-0600
TZOFFSETTO:-0500
END:DAYLIGHT
END:VTIMEZONE
BEGIN:VEVENT
UID:pretix-IL-IDPH-bab290cc-0d8c-442e-91ca-98a72311b046-915106@events.juvar
 e.com
DTSTART;TZID=US/Central:20210805T093000
DTEND;TZID=US/Central:20210805T100000
DESCRIPTION:Tickets: https://events.juvare.com/IL-IDPH/bab290cc-0d8c-442e-9
 1ca-98a72311b046/915106/\nOrganizer: Illinois Department of Public Health
DTSTAMP:20260423T202623Z
LOCATION:235 N. Taft St.\, Paxton\, IL 60957
SUMMARY:3rd June to 29th July - Ford County - Covid-19 Vaccine Clinic - Dos
 e #1 or 2
END:VEVENT
END:VCALENDAR
