BEGIN:VCALENDAR
VERSION:2.0
PRODID:-//pretix//events.juvare.com//
BEGIN:VTIMEZONE
TZID:US/Central
BEGIN:STANDARD
DTSTART:20001029T020000
RRULE:FREQ=YEARLY;BYDAY=-1SU;BYMONTH=10;UNTIL=20061029T070000Z
TZNAME:CST
TZOFFSETFROM:-0500
TZOFFSETTO:-0600
END:STANDARD
BEGIN:STANDARD
DTSTART:20071104T020000
RRULE:FREQ=YEARLY;BYDAY=1SU;BYMONTH=11
TZNAME:CST
TZOFFSETFROM:-0500
TZOFFSETTO:-0600
END:STANDARD
BEGIN:DAYLIGHT
DTSTART:20000402T020000
RRULE:FREQ=YEARLY;BYDAY=1SU;BYMONTH=4;UNTIL=20060402T080000Z
TZNAME:CDT
TZOFFSETFROM:-0600
TZOFFSETTO:-0500
END:DAYLIGHT
BEGIN:DAYLIGHT
DTSTART:20070311T020000
RRULE:FREQ=YEARLY;BYDAY=2SU;BYMONTH=3
TZNAME:CDT
TZOFFSETFROM:-0600
TZOFFSETTO:-0500
END:DAYLIGHT
END:VTIMEZONE
BEGIN:VEVENT
UID:pretix-IL-IDPH-ae5f7a42-b5c5-457a-8249-4ddd140b7ada-1250773@events.juva
 re.com
DTSTART;TZID=US/Central:20220203T170000
DTEND;TZID=US/Central:20220203T171500
DESCRIPTION:Tickets: https://events.juvare.com/IL-IDPH/ae5f7a42-b5c5-457a-8
 249-4ddd140b7ada/1250773/\nOrganizer: Illinois Department of Public Health
DTSTAMP:20260421T034629Z
LOCATION:6601 N. Western Ave\, Chicago\, IL 60645
SUMMARY:02/03 - PED - Chicago public Health/ Warren Park
END:VEVENT
END:VCALENDAR
