BEGIN:VCALENDAR
VERSION:2.0
PRODID:-//pretix//events.juvare.com//
BEGIN:VTIMEZONE
TZID:US/Central
BEGIN:STANDARD
DTSTART:20001029T020000
RRULE:FREQ=YEARLY;BYDAY=-1SU;BYMONTH=10;UNTIL=20061029T070000Z
TZNAME:CST
TZOFFSETFROM:-0500
TZOFFSETTO:-0600
END:STANDARD
BEGIN:STANDARD
DTSTART:20071104T020000
RRULE:FREQ=YEARLY;BYDAY=1SU;BYMONTH=11
TZNAME:CST
TZOFFSETFROM:-0500
TZOFFSETTO:-0600
END:STANDARD
BEGIN:DAYLIGHT
DTSTART:20000402T020000
RRULE:FREQ=YEARLY;BYDAY=1SU;BYMONTH=4;UNTIL=20060402T080000Z
TZNAME:CDT
TZOFFSETFROM:-0600
TZOFFSETTO:-0500
END:DAYLIGHT
BEGIN:DAYLIGHT
DTSTART:20070311T020000
RRULE:FREQ=YEARLY;BYDAY=2SU;BYMONTH=3
TZNAME:CDT
TZOFFSETFROM:-0600
TZOFFSETTO:-0500
END:DAYLIGHT
END:VTIMEZONE
BEGIN:VEVENT
UID:pretix-IL-IDPH-9c613793-7b66-4f0c-8f2e-09c30d953ad0-409484@events.juvar
 e.com
DTSTART;TZID=US/Central:20210407T094800
DTEND;TZID=US/Central:20210407T100000
DESCRIPTION:Tickets: https://events.juvare.com/IL-IDPH/9c613793-7b66-4f0c-8
 f2e-09c30d953ad0/409484/\nOrganizer: Illinois Department of Public Health
DTSTAMP:20260421T015609Z
LOCATION:100 E. Jeffery St. Kankakee\, IL 60901
SUMMARY:Mar 23 to Apr 30 - Illinois  of Human Services   - IDHS - Shapiro 
 Developmental Center Vaccination POD  - 1st and 2nd Dose
END:VEVENT
END:VCALENDAR
