BEGIN:VCALENDAR
VERSION:2.0
PRODID:-//pretix//events.juvare.com//
BEGIN:VTIMEZONE
TZID:US/Central
BEGIN:STANDARD
DTSTART:20001029T020000
RRULE:FREQ=YEARLY;BYDAY=-1SU;BYMONTH=10;UNTIL=20061029T070000Z
TZNAME:CST
TZOFFSETFROM:-0500
TZOFFSETTO:-0600
END:STANDARD
BEGIN:STANDARD
DTSTART:20071104T020000
RRULE:FREQ=YEARLY;BYDAY=1SU;BYMONTH=11
TZNAME:CST
TZOFFSETFROM:-0500
TZOFFSETTO:-0600
END:STANDARD
BEGIN:DAYLIGHT
DTSTART:20000402T020000
RRULE:FREQ=YEARLY;BYDAY=1SU;BYMONTH=4;UNTIL=20060402T080000Z
TZNAME:CDT
TZOFFSETFROM:-0600
TZOFFSETTO:-0500
END:DAYLIGHT
BEGIN:DAYLIGHT
DTSTART:20070311T020000
RRULE:FREQ=YEARLY;BYDAY=2SU;BYMONTH=3
TZNAME:CDT
TZOFFSETFROM:-0600
TZOFFSETTO:-0500
END:DAYLIGHT
END:VTIMEZONE
BEGIN:VEVENT
UID:pretix-IL-IDPH-947f224c-53c9-4870-a9c6-3595e9b9ff63-1281235@events.juva
 re.com
DTSTART;TZID=US/Central:20220303T124000
DTEND;TZID=US/Central:20220303T130000
DESCRIPTION:Tickets: https://events.juvare.com/IL-IDPH/947f224c-53c9-4870-a
 9c6-3595e9b9ff63/1281235/\nOrganizer: Illinois Department of Public Health
DTSTAMP:20260425T000640Z
LOCATION:Bureau County Health Department\n526 Bureau Valley Parkway\nPrince
 ton  IL 61356
SUMMARY:March 3rd- Bureau County- Moderna or Pfizer 1st\, 2nd\, 3rd\, or Bo
 oster Dose
END:VEVENT
END:VCALENDAR
