BEGIN:VCALENDAR
VERSION:2.0
PRODID:-//pretix//events.juvare.com//
BEGIN:VTIMEZONE
TZID:US/Central
BEGIN:STANDARD
DTSTART:20001029T020000
RRULE:FREQ=YEARLY;BYDAY=-1SU;BYMONTH=10;UNTIL=20061029T070000Z
TZNAME:CST
TZOFFSETFROM:-0500
TZOFFSETTO:-0600
END:STANDARD
BEGIN:STANDARD
DTSTART:20071104T020000
RRULE:FREQ=YEARLY;BYDAY=1SU;BYMONTH=11
TZNAME:CST
TZOFFSETFROM:-0500
TZOFFSETTO:-0600
END:STANDARD
BEGIN:DAYLIGHT
DTSTART:20000402T020000
RRULE:FREQ=YEARLY;BYDAY=1SU;BYMONTH=4;UNTIL=20060402T080000Z
TZNAME:CDT
TZOFFSETFROM:-0600
TZOFFSETTO:-0500
END:DAYLIGHT
BEGIN:DAYLIGHT
DTSTART:20070311T020000
RRULE:FREQ=YEARLY;BYDAY=2SU;BYMONTH=3
TZNAME:CDT
TZOFFSETFROM:-0600
TZOFFSETTO:-0500
END:DAYLIGHT
END:VTIMEZONE
BEGIN:VEVENT
UID:pretix-IL-IDPH-926cb507-6782-40de-994a-cde6e591183c-1192806@events.juva
 re.com
DTSTART;TZID=US/Central:20220205T101500
DTEND;TZID=US/Central:20220205T103000
DESCRIPTION:Tickets: https://events.juvare.com/IL-IDPH/926cb507-6782-40de-9
 94a-cde6e591183c/1192806/\nOrganizer: Illinois Department of Public Health
DTSTAMP:20260423T221938Z
LOCATION:14100 Harrison Avenue\, Posen\, IL 60469
SUMMARY:02/05-PED - John Gordon Elementary School
END:VEVENT
END:VCALENDAR
