BEGIN:VCALENDAR
VERSION:2.0
PRODID:-//pretix//events.juvare.com//
BEGIN:VTIMEZONE
TZID:US/Central
BEGIN:STANDARD
DTSTART:20001029T020000
RRULE:FREQ=YEARLY;BYDAY=-1SU;BYMONTH=10;UNTIL=20061029T070000Z
TZNAME:CST
TZOFFSETFROM:-0500
TZOFFSETTO:-0600
END:STANDARD
BEGIN:STANDARD
DTSTART:20071104T020000
RRULE:FREQ=YEARLY;BYDAY=1SU;BYMONTH=11
TZNAME:CST
TZOFFSETFROM:-0500
TZOFFSETTO:-0600
END:STANDARD
BEGIN:DAYLIGHT
DTSTART:20000402T020000
RRULE:FREQ=YEARLY;BYDAY=1SU;BYMONTH=4;UNTIL=20060402T080000Z
TZNAME:CDT
TZOFFSETFROM:-0600
TZOFFSETTO:-0500
END:DAYLIGHT
BEGIN:DAYLIGHT
DTSTART:20070311T020000
RRULE:FREQ=YEARLY;BYDAY=2SU;BYMONTH=3
TZNAME:CDT
TZOFFSETFROM:-0600
TZOFFSETTO:-0500
END:DAYLIGHT
END:VTIMEZONE
BEGIN:VEVENT
UID:pretix-IL-IDPH-8ae24925-e010-4e7b-accc-36ade0989d85-921047@events.juvar
 e.com
DTSTART;TZID=US/Central:20210729T101500
DTEND;TZID=US/Central:20210729T103000
DESCRIPTION:Tickets: https://events.juvare.com/IL-IDPH/8ae24925-e010-4e7b-a
 ccc-36ade0989d85/921047/\nOrganizer: Illinois Department of Public Health
DTSTAMP:20260424T192623Z
LOCATION:Effingham County Health Department\n901 W. Virginia\nEffingham\, I
 L  62401
SUMMARY:7/29/21 Effingham County Health Department First and Second Dose Mo
 derna Vaccine Drive Thru Clinic
END:VEVENT
END:VCALENDAR
