BEGIN:VCALENDAR
VERSION:2.0
PRODID:-//pretix//events.juvare.com//
BEGIN:VTIMEZONE
TZID:US/Central
BEGIN:STANDARD
DTSTART:20001029T020000
RRULE:FREQ=YEARLY;BYDAY=-1SU;BYMONTH=10;UNTIL=20061029T070000Z
TZNAME:CST
TZOFFSETFROM:-0500
TZOFFSETTO:-0600
END:STANDARD
BEGIN:STANDARD
DTSTART:20071104T020000
RRULE:FREQ=YEARLY;BYDAY=1SU;BYMONTH=11
TZNAME:CST
TZOFFSETFROM:-0500
TZOFFSETTO:-0600
END:STANDARD
BEGIN:DAYLIGHT
DTSTART:20000402T020000
RRULE:FREQ=YEARLY;BYDAY=1SU;BYMONTH=4;UNTIL=20060402T080000Z
TZNAME:CDT
TZOFFSETFROM:-0600
TZOFFSETTO:-0500
END:DAYLIGHT
BEGIN:DAYLIGHT
DTSTART:20070311T020000
RRULE:FREQ=YEARLY;BYDAY=2SU;BYMONTH=3
TZNAME:CDT
TZOFFSETFROM:-0600
TZOFFSETTO:-0500
END:DAYLIGHT
END:VTIMEZONE
BEGIN:VEVENT
UID:pretix-IL-IDPH-4ca797e4-1f41-44fc-9530-f2d3979f2e62-583604@events.juvar
 e.com
DTSTART;TZID=US/Central:20210429T090000
DTEND;TZID=US/Central:20210429T091500
DESCRIPTION:Tickets: https://events.juvare.com/IL-IDPH/4ca797e4-1f41-44fc-9
 530-f2d3979f2e62/583604/\nOrganizer: Illinois Department of Public Health
DTSTAMP:20260422T002811Z
LOCATION:NIU Convocation Center\n1525 W. Lincoln Hwy\nDeKalb\, IL. 60115
SUMMARY:04/29-DeKalb County- Convocation Center- Johnson & Johnson COVID-19
  Vaccine Clinic
END:VEVENT
END:VCALENDAR
