BEGIN:VCALENDAR
VERSION:2.0
PRODID:-//pretix//events.juvare.com//
BEGIN:VTIMEZONE
TZID:US/Central
BEGIN:STANDARD
DTSTART:20001029T020000
RRULE:FREQ=YEARLY;BYDAY=-1SU;BYMONTH=10;UNTIL=20061029T070000Z
TZNAME:CST
TZOFFSETFROM:-0500
TZOFFSETTO:-0600
END:STANDARD
BEGIN:STANDARD
DTSTART:20071104T020000
RRULE:FREQ=YEARLY;BYDAY=1SU;BYMONTH=11
TZNAME:CST
TZOFFSETFROM:-0500
TZOFFSETTO:-0600
END:STANDARD
BEGIN:DAYLIGHT
DTSTART:20000402T020000
RRULE:FREQ=YEARLY;BYDAY=1SU;BYMONTH=4;UNTIL=20060402T080000Z
TZNAME:CDT
TZOFFSETFROM:-0600
TZOFFSETTO:-0500
END:DAYLIGHT
BEGIN:DAYLIGHT
DTSTART:20070311T020000
RRULE:FREQ=YEARLY;BYDAY=2SU;BYMONTH=3
TZNAME:CDT
TZOFFSETFROM:-0600
TZOFFSETTO:-0500
END:DAYLIGHT
END:VTIMEZONE
BEGIN:VEVENT
UID:pretix-IL-IDPH-395de829-155c-46d1-bc8c-ecbfda9ab166-473657@events.juvar
 e.com
DTSTART;TZID=US/Central:20210406T113000
DTEND;TZID=US/Central:20210406T114500
DESCRIPTION:Tickets: https://events.juvare.com/IL-IDPH/395de829-155c-46d1-b
 c8c-ecbfda9ab166/473657/\nOrganizer: Illinois Department of Public Health
DTSTAMP:20260420T104344Z
LOCATION:100 College Dr. Kankakee\, IL 60901\nKankakee Community College\nL
 ook for signs for the Ryan Gymnasium\nVolunteers/staff will also help dire
 ct you
SUMMARY:04/06/2021-04/07/2021-Kankakee County-ILNG Mobile Outreach Vaccinat
 ion POD-J&J Single Dose
END:VEVENT
END:VCALENDAR
