BEGIN:VCALENDAR
VERSION:2.0
PRODID:-//pretix//events.juvare.com//
BEGIN:VTIMEZONE
TZID:US/Central
BEGIN:STANDARD
DTSTART:20001029T020000
RRULE:FREQ=YEARLY;BYDAY=-1SU;BYMONTH=10;UNTIL=20061029T070000Z
TZNAME:CST
TZOFFSETFROM:-0500
TZOFFSETTO:-0600
END:STANDARD
BEGIN:STANDARD
DTSTART:20071104T020000
RRULE:FREQ=YEARLY;BYDAY=1SU;BYMONTH=11
TZNAME:CST
TZOFFSETFROM:-0500
TZOFFSETTO:-0600
END:STANDARD
BEGIN:DAYLIGHT
DTSTART:20000402T020000
RRULE:FREQ=YEARLY;BYDAY=1SU;BYMONTH=4;UNTIL=20060402T080000Z
TZNAME:CDT
TZOFFSETFROM:-0600
TZOFFSETTO:-0500
END:DAYLIGHT
BEGIN:DAYLIGHT
DTSTART:20070311T020000
RRULE:FREQ=YEARLY;BYDAY=2SU;BYMONTH=3
TZNAME:CDT
TZOFFSETFROM:-0600
TZOFFSETTO:-0500
END:DAYLIGHT
END:VTIMEZONE
BEGIN:VEVENT
UID:pretix-IL-IDPH-354c248e-b99e-49a0-80eb-f5f6960b3c67-820479@events.juvar
 e.com
DTSTART;TZID=US/Central:20210616T144500
DTEND;TZID=US/Central:20210616T145000
DESCRIPTION:Tickets: https://events.juvare.com/IL-IDPH/354c248e-b99e-49a0-8
 0eb-f5f6960b3c67/820479/\nOrganizer: Illinois Department of Public Health
DTSTAMP:20260425T000632Z
LOCATION:St Alexius Catholic Hall\n200 W 6th St\nBeardstown IL 62618
SUMMARY:6/16- Cass County Beardstown- Pfizer 1st or 2nd dose
END:VEVENT
END:VCALENDAR
