BEGIN:VCALENDAR
VERSION:2.0
PRODID:-//pretix//events.juvare.com//
BEGIN:VTIMEZONE
TZID:US/Central
BEGIN:STANDARD
DTSTART:20001029T020000
RRULE:FREQ=YEARLY;BYDAY=-1SU;BYMONTH=10;UNTIL=20061029T070000Z
TZNAME:CST
TZOFFSETFROM:-0500
TZOFFSETTO:-0600
END:STANDARD
BEGIN:STANDARD
DTSTART:20071104T020000
RRULE:FREQ=YEARLY;BYDAY=1SU;BYMONTH=11
TZNAME:CST
TZOFFSETFROM:-0500
TZOFFSETTO:-0600
END:STANDARD
BEGIN:DAYLIGHT
DTSTART:20000402T020000
RRULE:FREQ=YEARLY;BYDAY=1SU;BYMONTH=4;UNTIL=20060402T080000Z
TZNAME:CDT
TZOFFSETFROM:-0600
TZOFFSETTO:-0500
END:DAYLIGHT
BEGIN:DAYLIGHT
DTSTART:20070311T020000
RRULE:FREQ=YEARLY;BYDAY=2SU;BYMONTH=3
TZNAME:CDT
TZOFFSETFROM:-0600
TZOFFSETTO:-0500
END:DAYLIGHT
END:VTIMEZONE
BEGIN:VEVENT
UID:pretix-IL-IDPH-285fe792-fcd0-4ca1-9471-dd92752c84b6-440270@events.juvar
 e.com
DTSTART;TZID=US/Central:20210331T140000
DTEND;TZID=US/Central:20210331T141200
DESCRIPTION:Tickets: https://events.juvare.com/IL-IDPH/285fe792-fcd0-4ca1-9
 471-dd92752c84b6/440270/\nOrganizer: Illinois Department of Public Health
DTSTAMP:20260423T111451Z
LOCATION:1120 Washington Avenue Dixon\, IL 61201
SUMMARY:03/30 to 04/30 - IDHS - Mabley Developmental Center Vaccination POD
  - 1st and 2nd Dose
END:VEVENT
END:VCALENDAR
