BEGIN:VCALENDAR
VERSION:2.0
PRODID:-//pretix//events.juvare.com//
BEGIN:VTIMEZONE
TZID:US/Central
BEGIN:STANDARD
DTSTART:20001029T020000
RRULE:FREQ=YEARLY;BYDAY=-1SU;BYMONTH=10;UNTIL=20061029T070000Z
TZNAME:CST
TZOFFSETFROM:-0500
TZOFFSETTO:-0600
END:STANDARD
BEGIN:STANDARD
DTSTART:20071104T020000
RRULE:FREQ=YEARLY;BYDAY=1SU;BYMONTH=11
TZNAME:CST
TZOFFSETFROM:-0500
TZOFFSETTO:-0600
END:STANDARD
BEGIN:DAYLIGHT
DTSTART:20000402T020000
RRULE:FREQ=YEARLY;BYDAY=1SU;BYMONTH=4;UNTIL=20060402T080000Z
TZNAME:CDT
TZOFFSETFROM:-0600
TZOFFSETTO:-0500
END:DAYLIGHT
BEGIN:DAYLIGHT
DTSTART:20070311T020000
RRULE:FREQ=YEARLY;BYDAY=2SU;BYMONTH=3
TZNAME:CDT
TZOFFSETFROM:-0600
TZOFFSETTO:-0500
END:DAYLIGHT
END:VTIMEZONE
BEGIN:VEVENT
UID:pretix-IL-IDPH-284861ab-0ea1-4744-aeed-0e9fb6e98af6-1190499@events.juva
 re.com
DTSTART;TZID=US/Central:20220115T130000
DTEND;TZID=US/Central:20220115T131500
DESCRIPTION:Tickets: https://events.juvare.com/IL-IDPH/284861ab-0ea1-4744-a
 eed-0e9fb6e98af6/1190499/\nOrganizer: Illinois Department of Public Health
DTSTAMP:20260424T044612Z
LOCATION:203 N Sangamon Ave.\, Gibson City\, IL 60936
SUMMARY:01/15-PEDS - Carpentersville Public Works
END:VEVENT
END:VCALENDAR
