BEGIN:VCALENDAR
VERSION:2.0
PRODID:-//pretix//events.juvare.com//
BEGIN:VTIMEZONE
TZID:US/Central
BEGIN:STANDARD
DTSTART:20001029T020000
RRULE:FREQ=YEARLY;BYDAY=-1SU;BYMONTH=10;UNTIL=20061029T070000Z
TZNAME:CST
TZOFFSETFROM:-0500
TZOFFSETTO:-0600
END:STANDARD
BEGIN:STANDARD
DTSTART:20071104T020000
RRULE:FREQ=YEARLY;BYDAY=1SU;BYMONTH=11
TZNAME:CST
TZOFFSETFROM:-0500
TZOFFSETTO:-0600
END:STANDARD
BEGIN:DAYLIGHT
DTSTART:20000402T020000
RRULE:FREQ=YEARLY;BYDAY=1SU;BYMONTH=4;UNTIL=20060402T080000Z
TZNAME:CDT
TZOFFSETFROM:-0600
TZOFFSETTO:-0500
END:DAYLIGHT
BEGIN:DAYLIGHT
DTSTART:20070311T020000
RRULE:FREQ=YEARLY;BYDAY=2SU;BYMONTH=3
TZNAME:CDT
TZOFFSETFROM:-0600
TZOFFSETTO:-0500
END:DAYLIGHT
END:VTIMEZONE
BEGIN:VEVENT
UID:pretix-IL-IDPH-12dbd04e-2397-4794-bdc0-682bb99a1d6a-1202125@events.juva
 re.com
DTSTART;TZID=US/Central:20220128T154500
DTEND;TZID=US/Central:20220128T160000
DESCRIPTION:Tickets: https://events.juvare.com/IL-IDPH/12dbd04e-2397-4794-b
 dc0-682bb99a1d6a/1202125/\nOrganizer: Illinois Department of Public Health
DTSTAMP:20260421T013941Z
LOCATION:PEDIATRIC Drive-thru Vaccine Clinic -West End of the Maple Street 
 Clinic parking lot- Please stay in your vehicle and follow signage. 5-11 y
 ears old ONLY \n109 East Maple Street\nGillespie\, IL 62033
SUMMARY:Pediatric Drive-Thru COVID-19 Vaccine Clinic - Macoupin County- 5-1
 1 years old ONLY
END:VEVENT
END:VCALENDAR
