BEGIN:VCALENDAR
VERSION:2.0
PRODID:-//pretix//events.juvare.com//
BEGIN:VTIMEZONE
TZID:US/Central
BEGIN:STANDARD
DTSTART:20001029T020000
RRULE:FREQ=YEARLY;BYDAY=-1SU;BYMONTH=10;UNTIL=20061029T070000Z
TZNAME:CST
TZOFFSETFROM:-0500
TZOFFSETTO:-0600
END:STANDARD
BEGIN:STANDARD
DTSTART:20071104T020000
RRULE:FREQ=YEARLY;BYDAY=1SU;BYMONTH=11
TZNAME:CST
TZOFFSETFROM:-0500
TZOFFSETTO:-0600
END:STANDARD
BEGIN:DAYLIGHT
DTSTART:20000402T020000
RRULE:FREQ=YEARLY;BYDAY=1SU;BYMONTH=4;UNTIL=20060402T080000Z
TZNAME:CDT
TZOFFSETFROM:-0600
TZOFFSETTO:-0500
END:DAYLIGHT
BEGIN:DAYLIGHT
DTSTART:20070311T020000
RRULE:FREQ=YEARLY;BYDAY=2SU;BYMONTH=3
TZNAME:CDT
TZOFFSETFROM:-0600
TZOFFSETTO:-0500
END:DAYLIGHT
END:VTIMEZONE
BEGIN:VEVENT
UID:pretix-IL-IDPH-12dbd04e-2397-4794-bdc0-682bb99a1d6a-1094203@events.juva
 re.com
DTSTART;TZID=US/Central:20211026T150000
DTEND;TZID=US/Central:20211026T151500
DESCRIPTION:Tickets: https://events.juvare.com/IL-IDPH/12dbd04e-2397-4794-b
 dc0-682bb99a1d6a/1094203/\nOrganizer: Illinois Department of Public Health
DTSTAMP:20260423T080005Z
LOCATION:Mobile Unit in the parking lot of the Maple Street Clinic\n109 Eas
 t Maple Street\nGillespie\, IL 62033
SUMMARY:Daily Clinic - Macoupin County- COVID Vaccines
END:VEVENT
END:VCALENDAR
